BEGIN:VCALENDAR
VERSION:2.0
PRODID:-//Huertos La Punta - ECPv6.15.11//NONSGML v1.0//EN
CALSCALE:GREGORIAN
METHOD:PUBLISH
X-ORIGINAL-URL:https://huertoslapunta.com
X-WR-CALDESC:Eventos para Huertos La Punta
REFRESH-INTERVAL;VALUE=DURATION:PT1H
X-Robots-Tag:noindex
X-PUBLISHED-TTL:PT1H
BEGIN:VTIMEZONE
TZID:UTC
BEGIN:STANDARD
TZOFFSETFROM:+0000
TZOFFSETTO:+0000
TZNAME:UTC
DTSTART:20250101T000000
END:STANDARD
END:VTIMEZONE
BEGIN:VEVENT
DTSTART;TZID=UTC:20260424T110000
DTEND;TZID=UTC:20260424T180000
DTSTAMP:20260421T084223
CREATED:20260407T200854Z
LAST-MODIFIED:20260407T200854Z
UID:2799-1777028400-1777053600@huertoslapunta.com
SUMMARY:Reserva Fernando Moya
DESCRIPTION:
URL:https://huertoslapunta.com/event/reserva-fernando-moya-12
END:VEVENT
BEGIN:VEVENT
DTSTART;TZID=UTC:20260425T120000
DTEND;TZID=UTC:20260425T180000
DTSTAMP:20260421T084223
CREATED:20260317T142844Z
LAST-MODIFIED:20260317T142844Z
UID:2785-1777118400-1777140000@huertoslapunta.com
SUMMARY:Reserva Patricia González
DESCRIPTION:
URL:https://huertoslapunta.com/event/reserva-patricia-gonzalez-12
END:VEVENT
BEGIN:VEVENT
DTSTART;TZID=UTC:20260426T100000
DTEND;TZID=UTC:20260426T190000
DTSTAMP:20260421T084223
CREATED:20260202T064216Z
LAST-MODIFIED:20260202T064216Z
UID:2731-1777197600-1777230000@huertoslapunta.com
SUMMARY:Reserva Roberto Collado
DESCRIPTION:
URL:https://huertoslapunta.com/event/reserva-roberto-collado-24
END:VEVENT
END:VCALENDAR