BEGIN:VCALENDAR
VERSION:2.0
PRODID:-//Huertos La Punta - ECPv6.15.11//NONSGML v1.0//EN
CALSCALE:GREGORIAN
METHOD:PUBLISH
X-ORIGINAL-URL:https://huertoslapunta.com
X-WR-CALDESC:Eventos para Huertos La Punta
REFRESH-INTERVAL;VALUE=DURATION:PT1H
X-Robots-Tag:noindex
X-PUBLISHED-TTL:PT1H
BEGIN:VTIMEZONE
TZID:UTC
BEGIN:STANDARD
TZOFFSETFROM:+0000
TZOFFSETTO:+0000
TZNAME:UTC
DTSTART:20230101T000000
END:STANDARD
END:VTIMEZONE
BEGIN:VEVENT
DTSTART;TZID=UTC:20241005T140000
DTEND;TZID=UTC:20241005T210000
DTSTAMP:20260422T081142
CREATED:20240911T143022Z
LAST-MODIFIED:20240920T084615Z
UID:2239-1728136800-1728162000@huertoslapunta.com
SUMMARY:Reserva II Encuentro Huertos La Punta
DESCRIPTION:
URL:https://huertoslapunta.com/event/reserva-marga-flexas-7
END:VEVENT
BEGIN:VEVENT
DTSTART;TZID=UTC:20241012T143000
DTEND;TZID=UTC:20241012T200000
DTSTAMP:20260422T081142
CREATED:20240904T203315Z
LAST-MODIFIED:20241004T094230Z
UID:2237-1728743400-1728763200@huertoslapunta.com
SUMMARY:Reserva Verónica Merino
DESCRIPTION:
URL:https://huertoslapunta.com/event/reserva-veronica-merino-2
END:VEVENT
BEGIN:VEVENT
DTSTART;TZID=UTC:20241017T123000
DTEND;TZID=UTC:20241017T193000
DTSTAMP:20260422T081142
CREATED:20241016T102903Z
LAST-MODIFIED:20241016T102903Z
UID:2282-1729168200-1729193400@huertoslapunta.com
SUMMARY:Reserva Neus Palazón
DESCRIPTION:
URL:https://huertoslapunta.com/event/reserva-neus-palazon
END:VEVENT
BEGIN:VEVENT
DTSTART;TZID=UTC:20241020T090000
DTEND;TZID=UTC:20241020T190000
DTSTAMP:20260422T081142
CREATED:20240822T065756Z
LAST-MODIFIED:20240822T065756Z
UID:2234-1729414800-1729450800@huertoslapunta.com
SUMMARY:Reserva Roberto Collado
DESCRIPTION:
URL:https://huertoslapunta.com/event/reserva-roberto-collado-10
END:VEVENT
BEGIN:VEVENT
DTSTART;TZID=UTC:20241022T143000
DTEND;TZID=UTC:20241022T160000
DTSTAMP:20260422T081142
CREATED:20241015T184208Z
LAST-MODIFIED:20241015T184208Z
UID:2280-1729607400-1729612800@huertoslapunta.com
SUMMARY:Reserva Carla Trolli
DESCRIPTION:
URL:https://huertoslapunta.com/event/reserva-carla-trolli-3
END:VEVENT
BEGIN:VEVENT
DTSTART;TZID=UTC:20241026T080000
DTEND;TZID=UTC:20241026T140000
DTSTAMP:20260422T081142
CREATED:20241002T070713Z
LAST-MODIFIED:20241025T113359Z
UID:2256-1729929600-1729951200@huertoslapunta.com
SUMMARY:Mantenimiento Huertos La Punta
DESCRIPTION:
URL:https://huertoslapunta.com/event/reserva-xisco-garcia-8
END:VEVENT
BEGIN:VEVENT
DTSTART;TZID=UTC:20241027T120000
DTEND;TZID=UTC:20241027T180000
DTSTAMP:20260422T081142
CREATED:20240929T184847Z
LAST-MODIFIED:20240929T184847Z
UID:2252-1730030400-1730052000@huertoslapunta.com
SUMMARY:Reserva Katharina Bös
DESCRIPTION:
URL:https://huertoslapunta.com/event/reserva-katharina-bos-3
END:VEVENT
END:VCALENDAR