BEGIN:VCALENDAR
VERSION:2.0
PRODID:-//Huertos La Punta - ECPv6.15.11//NONSGML v1.0//EN
CALSCALE:GREGORIAN
METHOD:PUBLISH
X-ORIGINAL-URL:https://huertoslapunta.com
X-WR-CALDESC:Eventos para Huertos La Punta
REFRESH-INTERVAL;VALUE=DURATION:PT1H
X-Robots-Tag:noindex
X-PUBLISHED-TTL:PT1H
BEGIN:VTIMEZONE
TZID:UTC
BEGIN:STANDARD
TZOFFSETFROM:+0000
TZOFFSETTO:+0000
TZNAME:UTC
DTSTART:20230101T000000
END:STANDARD
END:VTIMEZONE
BEGIN:VEVENT
DTSTART;TZID=UTC:20241101T100000
DTEND;TZID=UTC:20241101T190000
DTSTAMP:20260422T063455
CREATED:20241007T095553Z
LAST-MODIFIED:20241007T095553Z
UID:2267-1730455200-1730487600@huertoslapunta.com
SUMMARY:Reserva Roberto Collado
DESCRIPTION:
URL:https://huertoslapunta.com/event/reserva-roberto-collado-12
END:VEVENT
BEGIN:VEVENT
DTSTART;TZID=UTC:20241102T170000
DTEND;TZID=UTC:20241102T200000
DTSTAMP:20260422T063455
CREATED:20241007T164158Z
LAST-MODIFIED:20241007T164158Z
UID:2269-1730566800-1730577600@huertoslapunta.com
SUMMARY:Reserva Gema Terrón
DESCRIPTION:
URL:https://huertoslapunta.com/event/reserva-gema-terron
END:VEVENT
BEGIN:VEVENT
DTSTART;TZID=UTC:20241103T113000
DTEND;TZID=UTC:20241103T180000
DTSTAMP:20260422T063455
CREATED:20241003T203408Z
LAST-MODIFIED:20241003T203408Z
UID:2259-1730633400-1730656800@huertoslapunta.com
SUMMARY:Reserva Nerea Alberdi
DESCRIPTION:
URL:https://huertoslapunta.com/event/reserva-nerea-alberdi-9
END:VEVENT
BEGIN:VEVENT
DTSTART;TZID=UTC:20241109T120000
DTEND;TZID=UTC:20241109T170000
DTSTAMP:20260422T063455
CREATED:20240930T091124Z
LAST-MODIFIED:20240930T091124Z
UID:2254-1731153600-1731171600@huertoslapunta.com
SUMMARY:Reserva Kahar Hussain
DESCRIPTION:
URL:https://huertoslapunta.com/event/reserva-kahar-hussain-3
END:VEVENT
BEGIN:VEVENT
DTSTART;TZID=UTC:20241111T120000
DTEND;TZID=UTC:20241111T170000
DTSTAMP:20260422T063455
CREATED:20241021T163732Z
LAST-MODIFIED:20241021T163732Z
UID:2293-1731326400-1731344400@huertoslapunta.com
SUMMARY:Reserva Carla Trolli
DESCRIPTION:
URL:https://huertoslapunta.com/event/reserva-carla-trolli-4
END:VEVENT
BEGIN:VEVENT
DTSTART;TZID=UTC:20241116T100000
DTEND;TZID=UTC:20241116T160000
DTSTAMP:20260422T063455
CREATED:20241004T094057Z
LAST-MODIFIED:20241102T081155Z
UID:2261-1731751200-1731772800@huertoslapunta.com
SUMMARY:Reserva Verónica Merino
DESCRIPTION:
URL:https://huertoslapunta.com/event/reserva-veronica-merino-3
END:VEVENT
BEGIN:VEVENT
DTSTART;TZID=UTC:20241117T110000
DTEND;TZID=UTC:20241117T200000
DTSTAMP:20260422T063455
CREATED:20241006T073654Z
LAST-MODIFIED:20241006T073654Z
UID:2263-1731841200-1731873600@huertoslapunta.com
SUMMARY:Reserva Adán Alarcón
DESCRIPTION:
URL:https://huertoslapunta.com/event/reserva-adan-alarcon-9
END:VEVENT
BEGIN:VEVENT
DTSTART;TZID=UTC:20241122T140000
DTEND;TZID=UTC:20241122T170000
DTSTAMP:20260422T063455
CREATED:20241120T095502Z
LAST-MODIFIED:20241120T095502Z
UID:2303-1732284000-1732294800@huertoslapunta.com
SUMMARY:Reserva Helen Nores
DESCRIPTION:
URL:https://huertoslapunta.com/event/reserva-helen-nores
END:VEVENT
BEGIN:VEVENT
DTSTART;TZID=UTC:20241123T110000
DTEND;TZID=UTC:20241123T190000
DTSTAMP:20260422T063455
CREATED:20241013T165256Z
LAST-MODIFIED:20241013T165256Z
UID:2278-1732359600-1732388400@huertoslapunta.com
SUMMARY:Reserva Xisco García
DESCRIPTION:
URL:https://huertoslapunta.com/event/reserva-xisco-garcia-9
END:VEVENT
BEGIN:VEVENT
DTSTART;TZID=UTC:20241124T120000
DTEND;TZID=UTC:20241124T180000
DTSTAMP:20260422T063455
CREATED:20241018T194515Z
LAST-MODIFIED:20241028T090544Z
UID:2284-1732449600-1732471200@huertoslapunta.com
SUMMARY:Reserva Patricia González
DESCRIPTION:
URL:https://huertoslapunta.com/event/reserva-patricia-gonzalez-11
END:VEVENT
BEGIN:VEVENT
DTSTART;TZID=UTC:20241130T100000
DTEND;TZID=UTC:20241130T190000
DTSTAMP:20260422T063455
CREATED:20241020T160603Z
LAST-MODIFIED:20241020T160603Z
UID:2290-1732960800-1732993200@huertoslapunta.com
SUMMARY:Reserva Rose Marie Chindamo
DESCRIPTION:
URL:https://huertoslapunta.com/event/reserva-rose-marie-chindamo-2
END:VEVENT
END:VCALENDAR