BEGIN:VCALENDAR
VERSION:2.0
PRODID:-//Huertos La Punta - ECPv6.15.11//NONSGML v1.0//EN
CALSCALE:GREGORIAN
METHOD:PUBLISH
X-ORIGINAL-URL:https://huertoslapunta.com
X-WR-CALDESC:Eventos para Huertos La Punta
REFRESH-INTERVAL;VALUE=DURATION:PT1H
X-Robots-Tag:noindex
X-PUBLISHED-TTL:PT1H
BEGIN:VTIMEZONE
TZID:UTC
BEGIN:STANDARD
TZOFFSETFROM:+0000
TZOFFSETTO:+0000
TZNAME:UTC
DTSTART:20230101T000000
END:STANDARD
END:VTIMEZONE
BEGIN:VEVENT
DTSTART;TZID=UTC:20241201T120000
DTEND;TZID=UTC:20241201T200000
DTSTAMP:20260422T050625
CREATED:20241107T192700Z
LAST-MODIFIED:20241107T192700Z
UID:2300-1733054400-1733083200@huertoslapunta.com
SUMMARY:Reserva Marta Gallego
DESCRIPTION:
URL:https://huertoslapunta.com/event/reserva-marta-gallego-11
END:VEVENT
BEGIN:VEVENT
DTSTART;TZID=UTC:20241207T100000
DTEND;TZID=UTC:20241207T160000
DTSTAMP:20260422T050625
CREATED:20241128T173434Z
LAST-MODIFIED:20241128T173434Z
UID:2315-1733565600-1733587200@huertoslapunta.com
SUMMARY:Reserva Carla López
DESCRIPTION:
URL:https://huertoslapunta.com/event/reserva-carla-lopez-8
END:VEVENT
BEGIN:VEVENT
DTSTART;TZID=UTC:20241210T100000
DTEND;TZID=UTC:20241210T170000
DTSTAMP:20260422T050625
CREATED:20241210T085915Z
LAST-MODIFIED:20241210T085915Z
UID:2330-1733824800-1733850000@huertoslapunta.com
SUMMARY:Reserva Marga Flexas
DESCRIPTION:
URL:https://huertoslapunta.com/event/reserva-marga-flexas-8
END:VEVENT
BEGIN:VEVENT
DTSTART;TZID=UTC:20241214T110000
DTEND;TZID=UTC:20241214T180000
DTSTAMP:20260422T050625
CREATED:20241129T113529Z
LAST-MODIFIED:20241129T113529Z
UID:2317-1734174000-1734199200@huertoslapunta.com
SUMMARY:Reserva Adán Alarcón
DESCRIPTION:
URL:https://huertoslapunta.com/event/reserva-adan-alarcon-10
END:VEVENT
BEGIN:VEVENT
DTSTART;TZID=UTC:20241215T110000
DTEND;TZID=UTC:20241215T170000
DTSTAMP:20260422T050625
CREATED:20241123T170518Z
LAST-MODIFIED:20241123T170518Z
UID:2310-1734260400-1734282000@huertoslapunta.com
SUMMARY:Reserva Pilar Sánchez
DESCRIPTION:
URL:https://huertoslapunta.com/event/reserva-pilar-sanchez-2
END:VEVENT
BEGIN:VEVENT
DTSTART;TZID=UTC:20241221T110000
DTEND;TZID=UTC:20241221T160000
DTSTAMP:20260422T050625
CREATED:20241123T170239Z
LAST-MODIFIED:20241123T170309Z
UID:2307-1734778800-1734796800@huertoslapunta.com
SUMMARY:Reserva Yunior Concepción
DESCRIPTION:
URL:https://huertoslapunta.com/event/reserva
END:VEVENT
BEGIN:VEVENT
DTSTART;TZID=UTC:20241222T100000
DTEND;TZID=UTC:20241222T180000
DTSTAMP:20260422T050625
CREATED:20241205T060148Z
LAST-MODIFIED:20241205T060148Z
UID:2321-1734861600-1734890400@huertoslapunta.com
SUMMARY:Reserva Juan Antonio Vico
DESCRIPTION:
URL:https://huertoslapunta.com/event/reserva-juan-antonio-vico-5
END:VEVENT
BEGIN:VEVENT
DTSTART;TZID=UTC:20241225T100000
DTEND;TZID=UTC:20241225T170000
DTSTAMP:20260422T050625
CREATED:20241222T182213Z
LAST-MODIFIED:20241222T182213Z
UID:2335-1735120800-1735146000@huertoslapunta.com
SUMMARY:Reserva Lucas Livolti
DESCRIPTION:
URL:https://huertoslapunta.com/event/reserva-lucas-livolti-2
END:VEVENT
BEGIN:VEVENT
DTSTART;TZID=UTC:20241226T110000
DTEND;TZID=UTC:20241226T160000
DTSTAMP:20260422T050625
CREATED:20241225T084310Z
LAST-MODIFIED:20241225T084310Z
UID:2337-1735210800-1735228800@huertoslapunta.com
SUMMARY:Reserva Carla Trolli
DESCRIPTION:
URL:https://huertoslapunta.com/event/reserva-carla-trolli-5
END:VEVENT
BEGIN:VEVENT
DTSTART;TZID=UTC:20241228T120000
DTEND;TZID=UTC:20241228T170000
DTSTAMP:20260422T050625
CREATED:20241207T064150Z
LAST-MODIFIED:20241207T064150Z
UID:2328-1735387200-1735405200@huertoslapunta.com
SUMMARY:Reserva Margarita Llinás
DESCRIPTION:
URL:https://huertoslapunta.com/event/reserva-margarita-llinas
END:VEVENT
BEGIN:VEVENT
DTSTART;TZID=UTC:20241229T100000
DTEND;TZID=UTC:20241229T190000
DTSTAMP:20260422T050625
CREATED:20241029T120108Z
LAST-MODIFIED:20241206T031412Z
UID:2297-1735466400-1735498800@huertoslapunta.com
SUMMARY:Reserva Roberto Collado
DESCRIPTION:
URL:https://huertoslapunta.com/event/reserva-roberto-collado-13
END:VEVENT
BEGIN:VEVENT
DTSTART;TZID=UTC:20241231T110000
DTEND;TZID=UTC:20241231T170000
DTSTAMP:20260422T050625
CREATED:20241231T083007Z
LAST-MODIFIED:20241231T083007Z
UID:2351-1735642800-1735664400@huertoslapunta.com
SUMMARY:Reserva María Moya
DESCRIPTION:
URL:https://huertoslapunta.com/event/reserva-maria-moya-8
END:VEVENT
END:VCALENDAR