BEGIN:VCALENDAR
VERSION:2.0
PRODID:-//Huertos La Punta - ECPv6.15.11//NONSGML v1.0//EN
CALSCALE:GREGORIAN
METHOD:PUBLISH
X-WR-CALNAME:Huertos La Punta
X-ORIGINAL-URL:https://huertoslapunta.com
X-WR-CALDESC:Eventos para Huertos La Punta
REFRESH-INTERVAL;VALUE=DURATION:PT1H
X-Robots-Tag:noindex
X-PUBLISHED-TTL:PT1H
BEGIN:VTIMEZONE
TZID:UTC
BEGIN:STANDARD
TZOFFSETFROM:+0000
TZOFFSETTO:+0000
TZNAME:UTC
DTSTART:20240101T000000
END:STANDARD
END:VTIMEZONE
BEGIN:VEVENT
DTSTART;TZID=UTC:20250501T100000
DTEND;TZID=UTC:20250501T190000
DTSTAMP:20260421T210559
CREATED:20250427T210300Z
LAST-MODIFIED:20250427T210300Z
UID:2447-1746093600-1746126000@huertoslapunta.com
SUMMARY:Reserva Roberto Collado
DESCRIPTION:
URL:https://huertoslapunta.com/event/reserva-roberto-collado-18
END:VEVENT
BEGIN:VEVENT
DTSTART;TZID=UTC:20250503T120000
DTEND;TZID=UTC:20250503T183000
DTSTAMP:20260421T210559
CREATED:20250405T221241Z
LAST-MODIFIED:20250405T221241Z
UID:2427-1746273600-1746297000@huertoslapunta.com
SUMMARY:Reserva Dara Enfedaque
DESCRIPTION:
URL:https://huertoslapunta.com/event/reserva-dara-enfedaque-2
END:VEVENT
BEGIN:VEVENT
DTSTART;TZID=UTC:20250504T110000
DTEND;TZID=UTC:20250504T200000
DTSTAMP:20260421T210559
CREATED:20250420T093937Z
LAST-MODIFIED:20250420T093937Z
UID:2442-1746356400-1746388800@huertoslapunta.com
SUMMARY:Reserva Gema Terrón
DESCRIPTION:
URL:https://huertoslapunta.com/event/reserva-gema-terron-3
END:VEVENT
BEGIN:VEVENT
DTSTART;TZID=UTC:20250518T110000
DTEND;TZID=UTC:20250518T190000
DTSTAMP:20260421T210559
CREATED:20250511T063140Z
LAST-MODIFIED:20250511T063140Z
UID:2454-1747566000-1747594800@huertoslapunta.com
SUMMARY:Reserva Adán Alarcón
DESCRIPTION:
URL:https://huertoslapunta.com/event/reserva-adan-alarcon-14
END:VEVENT
BEGIN:VEVENT
DTSTART;TZID=UTC:20250531T120000
DTEND;TZID=UTC:20250531T190000
DTSTAMP:20260421T210559
CREATED:20250519T082840Z
LAST-MODIFIED:20250519T082840Z
UID:2457-1748692800-1748718000@huertoslapunta.com
SUMMARY:Reserva Fernando Moya
DESCRIPTION:
URL:https://huertoslapunta.com/event/reserva-fernando-moya-9
END:VEVENT
END:VCALENDAR