BEGIN:VCALENDAR
VERSION:2.0
PRODID:-//Huertos La Punta - ECPv6.15.11//NONSGML v1.0//EN
CALSCALE:GREGORIAN
METHOD:PUBLISH
X-ORIGINAL-URL:https://huertoslapunta.com
X-WR-CALDESC:Eventos para Huertos La Punta
REFRESH-INTERVAL;VALUE=DURATION:PT1H
X-Robots-Tag:noindex
X-PUBLISHED-TTL:PT1H
BEGIN:VTIMEZONE
TZID:UTC
BEGIN:STANDARD
TZOFFSETFROM:+0000
TZOFFSETTO:+0000
TZNAME:UTC
DTSTART:20240101T000000
END:STANDARD
END:VTIMEZONE
BEGIN:VEVENT
DTSTART;TZID=UTC:20251101T110000
DTEND;TZID=UTC:20251101T180000
DTSTAMP:20260421T122426
CREATED:20251002T110814Z
LAST-MODIFIED:20251002T110814Z
UID:2527-1761994800-1762020000@huertoslapunta.com
SUMMARY:Reserva Cynthia Field
DESCRIPTION:
URL:https://huertoslapunta.com/event/reserva-cynthia-field-11
END:VEVENT
BEGIN:VEVENT
DTSTART;TZID=UTC:20251102T110000
DTEND;TZID=UTC:20251102T180000
DTSTAMP:20260421T122426
CREATED:20251007T160724Z
LAST-MODIFIED:20251007T160724Z
UID:2533-1762081200-1762106400@huertoslapunta.com
SUMMARY:Reserva Carla López
DESCRIPTION:
URL:https://huertoslapunta.com/event/reserva-carla-lopez-9
END:VEVENT
BEGIN:VEVENT
DTSTART;TZID=UTC:20251103T120000
DTEND;TZID=UTC:20251103T160000
DTSTAMP:20260421T122426
CREATED:20251103T105000Z
LAST-MODIFIED:20251103T105000Z
UID:2568-1762171200-1762185600@huertoslapunta.com
SUMMARY:Reserva Carla Trolli
DESCRIPTION:
URL:https://huertoslapunta.com/event/reserva-carla-trolli-6
END:VEVENT
BEGIN:VEVENT
DTSTART;TZID=UTC:20251108T103000
DTEND;TZID=UTC:20251108T180000
DTSTAMP:20260421T122426
CREATED:20250911T101021Z
LAST-MODIFIED:20250911T101021Z
UID:2511-1762597800-1762624800@huertoslapunta.com
SUMMARY:Reserva Verónica Merino
DESCRIPTION:
URL:https://huertoslapunta.com/event/reserva-veronica-merino-5
END:VEVENT
BEGIN:VEVENT
DTSTART;TZID=UTC:20251109T090000
DTEND;TZID=UTC:20251109T190000
DTSTAMP:20260421T122426
CREATED:20250922T083833Z
LAST-MODIFIED:20250922T083833Z
UID:2519-1762678800-1762714800@huertoslapunta.com
SUMMARY:Reserva Antonio Ramírez
DESCRIPTION:
URL:https://huertoslapunta.com/event/reserva-antonio-ramirez-7
END:VEVENT
BEGIN:VEVENT
DTSTART;TZID=UTC:20251115T120000
DTEND;TZID=UTC:20251115T180000
DTSTAMP:20260421T122426
CREATED:20251005T082837Z
LAST-MODIFIED:20251005T082837Z
UID:2531-1763208000-1763229600@huertoslapunta.com
SUMMARY:Reserva Kahar Hussain
DESCRIPTION:
URL:https://huertoslapunta.com/event/reserva-kahar-hussain-6
END:VEVENT
BEGIN:VEVENT
DTSTART;TZID=UTC:20251116T100000
DTEND;TZID=UTC:20251116T180000
DTSTAMP:20260421T122426
CREATED:20250406T195410Z
LAST-MODIFIED:20250406T195410Z
UID:2429-1763287200-1763316000@huertoslapunta.com
SUMMARY:Reserva Vanessa Perales
DESCRIPTION:
URL:https://huertoslapunta.com/event/reserva-vanessa-perales
END:VEVENT
BEGIN:VEVENT
DTSTART;TZID=UTC:20251122T110000
DTEND;TZID=UTC:20251122T190000
DTSTAMP:20260421T122426
CREATED:20250902T204706Z
LAST-MODIFIED:20250902T204706Z
UID:2471-1763809200-1763838000@huertoslapunta.com
SUMMARY:Reserva Helen Noroes
DESCRIPTION:
URL:https://huertoslapunta.com/event/reserva-helen-noroes-4
END:VEVENT
BEGIN:VEVENT
DTSTART;TZID=UTC:20251123T090000
DTEND;TZID=UTC:20251123T190000
DTSTAMP:20260421T122426
CREATED:20250906T215732Z
LAST-MODIFIED:20250906T215732Z
UID:2477-1763888400-1763924400@huertoslapunta.com
SUMMARY:Reserva Roberto Collado
DESCRIPTION:
URL:https://huertoslapunta.com/event/reserva-roberto-collado-20
END:VEVENT
BEGIN:VEVENT
DTSTART;TZID=UTC:20251125T120000
DTEND;TZID=UTC:20251125T180000
DTSTAMP:20260421T122426
CREATED:20251119T154241Z
LAST-MODIFIED:20251119T154241Z
UID:2578-1764072000-1764093600@huertoslapunta.com
SUMMARY:Reserva Fernando Moya
DESCRIPTION:
URL:https://huertoslapunta.com/event/reserva-fernando-moya-10
END:VEVENT
BEGIN:VEVENT
DTSTART;TZID=UTC:20251129T110000
DTEND;TZID=UTC:20251129T170000
DTSTAMP:20260421T122426
CREATED:20251019T155557Z
LAST-MODIFIED:20251019T155623Z
UID:2562-1764414000-1764435600@huertoslapunta.com
SUMMARY:Reserva Yunior López
DESCRIPTION:
URL:https://huertoslapunta.com/event/reserva-yunior
END:VEVENT
BEGIN:VEVENT
DTSTART;TZID=UTC:20251130T110000
DTEND;TZID=UTC:20251130T180000
DTSTAMP:20260421T122426
CREATED:20251015T060340Z
LAST-MODIFIED:20251015T060340Z
UID:2550-1764500400-1764525600@huertoslapunta.com
SUMMARY:Reserva Martina Lucci
DESCRIPTION:
URL:https://huertoslapunta.com/event/reserva-martina-lucci-2
END:VEVENT
END:VCALENDAR