BEGIN:VCALENDAR
VERSION:2.0
PRODID:-//Huertos La Punta - ECPv6.15.11//NONSGML v1.0//EN
CALSCALE:GREGORIAN
METHOD:PUBLISH
X-WR-CALNAME:Huertos La Punta
X-ORIGINAL-URL:https://huertoslapunta.com
X-WR-CALDESC:Eventos para Huertos La Punta
REFRESH-INTERVAL;VALUE=DURATION:PT1H
X-Robots-Tag:noindex
X-PUBLISHED-TTL:PT1H
BEGIN:VTIMEZONE
TZID:UTC
BEGIN:STANDARD
TZOFFSETFROM:+0000
TZOFFSETTO:+0000
TZNAME:UTC
DTSTART:20250101T000000
END:STANDARD
END:VTIMEZONE
BEGIN:VEVENT
DTSTART;TZID=UTC:20260501T110000
DTEND;TZID=UTC:20260501T170000
DTSTAMP:20260423T094331
CREATED:20260304T204745Z
LAST-MODIFIED:20260304T204745Z
UID:2773-1777633200-1777654800@huertoslapunta.com
SUMMARY:Reserva Bento Manuel Oliveira
DESCRIPTION:
URL:https://huertoslapunta.com/event/reserva-bento-manuel-oliveira-2
END:VEVENT
BEGIN:VEVENT
DTSTART;TZID=UTC:20260502T113000
DTEND;TZID=UTC:20260502T183000
DTSTAMP:20260423T094331
CREATED:20260411T080120Z
LAST-MODIFIED:20260411T080120Z
UID:2801-1777721400-1777746600@huertoslapunta.com
SUMMARY:Reserva Vanessa Perales
DESCRIPTION:
URL:https://huertoslapunta.com/event/reserva-vanessa-perales-2
END:VEVENT
BEGIN:VEVENT
DTSTART;TZID=UTC:20260509T100000
DTEND;TZID=UTC:20260509T190000
DTSTAMP:20260423T094331
CREATED:20260318T065125Z
LAST-MODIFIED:20260318T065125Z
UID:2787-1778320800-1778353200@huertoslapunta.com
SUMMARY:Reserva Alejandro Díaz
DESCRIPTION:
URL:https://huertoslapunta.com/event/reserva-alejandro-diaz-4
END:VEVENT
BEGIN:VEVENT
DTSTART;TZID=UTC:20260516T113000
DTEND;TZID=UTC:20260516T190000
DTSTAMP:20260423T094331
CREATED:20260406T152931Z
LAST-MODIFIED:20260406T152931Z
UID:2797-1778931000-1778958000@huertoslapunta.com
SUMMARY:Reserva Rose Marie Chindamo
DESCRIPTION:
URL:https://huertoslapunta.com/event/reserva-rose-marie-chindamo-4
END:VEVENT
BEGIN:VEVENT
DTSTART;TZID=UTC:20260517T120000
DTEND;TZID=UTC:20260517T190000
DTSTAMP:20260423T094331
CREATED:20260201T175902Z
LAST-MODIFIED:20260201T175902Z
UID:2723-1779019200-1779044400@huertoslapunta.com
SUMMARY:Reserva Adán Alarcón
DESCRIPTION:
URL:https://huertoslapunta.com/event/reserva-adan-alarcon-18
END:VEVENT
END:VCALENDAR