BEGIN:VCALENDAR
VERSION:2.0
PRODID:-//Huertos La Punta - ECPv6.15.11//NONSGML v1.0//EN
CALSCALE:GREGORIAN
METHOD:PUBLISH
X-ORIGINAL-URL:https://huertoslapunta.com
X-WR-CALDESC:Eventos para Huertos La Punta
REFRESH-INTERVAL;VALUE=DURATION:PT1H
X-Robots-Tag:noindex
X-PUBLISHED-TTL:PT1H
BEGIN:VTIMEZONE
TZID:UTC
BEGIN:STANDARD
TZOFFSETFROM:+0000
TZOFFSETTO:+0000
TZNAME:UTC
DTSTART:20250101T000000
END:STANDARD
END:VTIMEZONE
BEGIN:VEVENT
DTSTART;TZID=UTC:20260613T150000
DTEND;TZID=UTC:20260613T190000
DTSTAMP:20260423T110708
CREATED:20260420T103244Z
LAST-MODIFIED:20260420T103244Z
UID:2804-1781362800-1781377200@huertoslapunta.com
SUMMARY:Reserva Carla Trolli
DESCRIPTION:
URL:https://huertoslapunta.com/event/reserva-carla-trolli-7
END:VEVENT
END:VCALENDAR