BEGIN:VCALENDAR
VERSION:2.0
PRODID:-//Huertos La Punta - ECPv6.15.11//NONSGML v1.0//EN
CALSCALE:GREGORIAN
METHOD:PUBLISH
X-ORIGINAL-URL:https://huertoslapunta.com
X-WR-CALDESC:Eventos para Huertos La Punta
REFRESH-INTERVAL;VALUE=DURATION:PT1H
X-Robots-Tag:noindex
X-PUBLISHED-TTL:PT1H
BEGIN:VTIMEZONE
TZID:UTC
BEGIN:STANDARD
TZOFFSETFROM:+0000
TZOFFSETTO:+0000
TZNAME:UTC
DTSTART:20250101T000000
END:STANDARD
END:VTIMEZONE
BEGIN:VEVENT
DTSTART;TZID=UTC:20260707T180000
DTEND;TZID=UTC:20260707T220000
DTSTAMP:20260423T122037
CREATED:20251116T173806Z
LAST-MODIFIED:20251116T173806Z
UID:2571-1783447200-1783461600@huertoslapunta.com
SUMMARY:Reserva Patricia Iglesias
DESCRIPTION:
URL:https://huertoslapunta.com/event/reserva-patricia-iglesias-4
END:VEVENT
BEGIN:VEVENT
DTSTART;TZID=UTC:20260719T110000
DTEND;TZID=UTC:20260719T200000
DTSTAMP:20260423T122037
CREATED:20260201T180352Z
LAST-MODIFIED:20260201T180352Z
UID:2727-1784458800-1784491200@huertoslapunta.com
SUMMARY:Reserva Gema Terrón
DESCRIPTION:
URL:https://huertoslapunta.com/event/reserva-gema-terron-5
END:VEVENT
END:VCALENDAR